BEGIN:VCALENDAR
VERSION:2.0
PRODID:spatie/icalendar-generator
DESCRIPTION:Events from Panama Country Club
X-WR-CALDESC:Events from Panama Country Club
REFRESH-INTERVAL;VALUE=DURATION:PT1440M
X-PUBLISHED-TTL:PT1440M
BEGIN:VTIMEZONE
TZID:Etc/GMT+0
BEGIN:STANDARD
DTSTART:20250729T000000Z
TZOFFSETFROM:+0000
TZOFFSETTO:+0000
END:STANDARD
END:VTIMEZONE
BEGIN:VTIMEZONE
TZID:UTC
BEGIN:STANDARD
DTSTART:20250727T103749Z
TZOFFSETFROM:+0000
TZOFFSETTO:+0000
END:STANDARD
END:VTIMEZONE
BEGIN:VEVENT
UID:1557-231
DTSTAMP:20260423T103749Z
SUMMARY:Grill\, Pool\, &amp;amp\; Gym - Closed for Wedding
LOCATION:
ORGANIZER;CN=foreUPwebsites:MAILTO:websites2@foreup.com
DTSTART;TZID=Etc/GMT+0;VALUE=DATE:20260425
DTEND;TZID=Etc/GMT+0;VALUE=DATE:20260426
X-ALT-DESC;FMTTYPE=TEXT/HTML:
CATEGORIES:Bar Event
URL;VALUE=URI:https://panamacountryclub.com/mc-events/grill-pool-gym-closed
 -for-wedding/
METHOD:PUBLISH
END:VEVENT
END:VCALENDAR